BEGIN:VCALENDAR
VERSION:2.0
PRODID:-//Tukios.com/
BEGIN:VEVENT
UID:f9b2366e-18ad-481a-bfca-c40beb806382@www.dalcamofuneralhome.com
DTSTAMP:20260420T082611Z
DTSTART:20260420
SUMMARY:Interment
DESCRIPTION:
URL:https://www.dalcamofuneralhome.com/obituaries/diana-kroulaidis
LOCATION: 4401 W 111th St  Chicago IL 60655
GEO:41.6872943;-87.7308057
END:VEVENT
END:VCALENDAR